BEGIN:VCALENDAR
VERSION:2.0
PRODID:-//Bay Ridge Christian Church - ECPv6.15.13//NONSGML v1.0//EN
CALSCALE:GREGORIAN
METHOD:PUBLISH
X-WR-CALNAME:Bay Ridge Christian Church
X-ORIGINAL-URL:https://brcc.church
X-WR-CALDESC:Events for Bay Ridge Christian Church
REFRESH-INTERVAL;VALUE=DURATION:PT1H
X-Robots-Tag:noindex
X-PUBLISHED-TTL:PT1H
BEGIN:VTIMEZONE
TZID:America/New_York
BEGIN:DAYLIGHT
TZOFFSETFROM:-0500
TZOFFSETTO:-0400
TZNAME:EDT
DTSTART:20230312T070000
END:DAYLIGHT
BEGIN:STANDARD
TZOFFSETFROM:-0400
TZOFFSETTO:-0500
TZNAME:EST
DTSTART:20231105T060000
END:STANDARD
BEGIN:DAYLIGHT
TZOFFSETFROM:-0500
TZOFFSETTO:-0400
TZNAME:EDT
DTSTART:20240310T070000
END:DAYLIGHT
BEGIN:STANDARD
TZOFFSETFROM:-0400
TZOFFSETTO:-0500
TZNAME:EST
DTSTART:20241103T060000
END:STANDARD
BEGIN:DAYLIGHT
TZOFFSETFROM:-0500
TZOFFSETTO:-0400
TZNAME:EDT
DTSTART:20250309T070000
END:DAYLIGHT
BEGIN:STANDARD
TZOFFSETFROM:-0400
TZOFFSETTO:-0500
TZNAME:EST
DTSTART:20251102T060000
END:STANDARD
END:VTIMEZONE
BEGIN:VEVENT
DTSTART;TZID=America/New_York:20240329T190000
DTEND;TZID=America/New_York:20240329T203000
DTSTAMP:20260423T192033
CREATED:20240320T005545Z
LAST-MODIFIED:20240320T005546Z
UID:29950-1711738800-1711744200@brcc.church
SUMMARY:Good Friday Service
DESCRIPTION:Good Friday Service with BRCC\, CrossPointe Church (Arnold)\, and Living Hope Church (Crofton)\, hosted at Bay ridge Christian Church. The BRCC worship team will lead the singing and worship\, a choir with members of all 3 churches will sing a special\, Living Hope members will do Scripture readings\, Scott Crook from CrossPointe will teach\, and Bret will lead communion. Contact admin@brcc.church if you need more information.
URL:https://brcc.church/event/good-friday-service/
END:VEVENT
BEGIN:VEVENT
DTSTART;TZID=America/New_York:20240323T103000
DTEND;TZID=America/New_York:20240323T133000
DTSTAMP:20260423T192033
CREATED:20240320T004428Z
LAST-MODIFIED:20240320T004731Z
UID:29944-1711189800-1711200600@brcc.church
SUMMARY:BRCC Church Egg Hunt
DESCRIPTION:Join us on Saturday March 23rd from 10:30 AM- 1:30 PM for our annual Egg Hunt! This event is free for the whole family!  \n\n\n\n\n\nWe will have Games\, Petting Zoo\, Face Painting\, Shark Tooth Dig\, Magic Show\, Bounce House and More! The event is free and we hope you and your family will join us! \n\n\n\n\n\nE-Mail admin@brcc.church for more details
URL:https://brcc.church/event/church-egg-hunt/
END:VEVENT
END:VCALENDAR