BEGIN:VCALENDAR
VERSION:2.0
PRODID:-//Bay Ridge Christian Church - ECPv6.15.13//NONSGML v1.0//EN
CALSCALE:GREGORIAN
METHOD:PUBLISH
X-WR-CALNAME:Bay Ridge Christian Church
X-ORIGINAL-URL:https://brcc.church
X-WR-CALDESC:Events for Bay Ridge Christian Church
REFRESH-INTERVAL;VALUE=DURATION:PT1H
X-Robots-Tag:noindex
X-PUBLISHED-TTL:PT1H
BEGIN:VTIMEZONE
TZID:America/New_York
BEGIN:DAYLIGHT
TZOFFSETFROM:-0500
TZOFFSETTO:-0400
TZNAME:EDT
DTSTART:20230312T070000
END:DAYLIGHT
BEGIN:STANDARD
TZOFFSETFROM:-0400
TZOFFSETTO:-0500
TZNAME:EST
DTSTART:20231105T060000
END:STANDARD
BEGIN:DAYLIGHT
TZOFFSETFROM:-0500
TZOFFSETTO:-0400
TZNAME:EDT
DTSTART:20240310T070000
END:DAYLIGHT
BEGIN:STANDARD
TZOFFSETFROM:-0400
TZOFFSETTO:-0500
TZNAME:EST
DTSTART:20241103T060000
END:STANDARD
BEGIN:DAYLIGHT
TZOFFSETFROM:-0500
TZOFFSETTO:-0400
TZNAME:EDT
DTSTART:20250309T070000
END:DAYLIGHT
BEGIN:STANDARD
TZOFFSETFROM:-0400
TZOFFSETTO:-0500
TZNAME:EST
DTSTART:20251102T060000
END:STANDARD
BEGIN:DAYLIGHT
TZOFFSETFROM:-0500
TZOFFSETTO:-0400
TZNAME:EDT
DTSTART:20260308T070000
END:DAYLIGHT
BEGIN:STANDARD
TZOFFSETFROM:-0400
TZOFFSETTO:-0500
TZNAME:EST
DTSTART:20261101T060000
END:STANDARD
END:VTIMEZONE
BEGIN:VEVENT
DTSTART;TZID=America/New_York:20250706T113000
DTEND;TZID=America/New_York:20250706T130000
DTSTAMP:20260423T152100
CREATED:20250626T195550Z
LAST-MODIFIED:20250626T195552Z
UID:32682-1751801400-1751806800@brcc.church
SUMMARY:Walking Together
DESCRIPTION:This class gives a brief overview of the beliefs and practices of BRCC. Membership is finalized when both the individual and the elders of BRCC agree the person meets the qualifications and that God is calling the person to be a member at BRCC. \n\n\n\nThe Walking Together Manual may be accessed below. The class itself gives only an overview of the information contained in the manual\, so you’ll want to read the manual prior to the class to be prepared.
URL:https://brcc.church/event/walking-together/
END:VEVENT
BEGIN:VEVENT
DTSTART;TZID=America/New_York:20250705T080000
DTEND;TZID=America/New_York:20250705T130000
DTSTAMP:20260423T152100
CREATED:20250621T030029Z
LAST-MODIFIED:20250621T030030Z
UID:32659-1751702400-1751720400@brcc.church
SUMMARY:BRCC Harvest Day
DESCRIPTION:Come join us on saturday\, July 5th at 8:00 AM as we come together to care for the Lord’s house! \n\n\n\nLet’s roll up our sleeves and help beautify our church—many hands make light work\, and we’d love to have your help!
URL:https://brcc.church/event/brcc-harvest-day/
END:VEVENT
BEGIN:VEVENT
DTSTART;TZID=America/New_York:20250628T150000
DTEND;TZID=America/New_York:20250628T170000
DTSTAMP:20260423T152100
CREATED:20250606T194211Z
LAST-MODIFIED:20250606T194216Z
UID:32461-1751122800-1751130000@brcc.church
SUMMARY:BRCC Worship Connect Group
DESCRIPTION:Join Our Worship Community!Do you love music? Whether you sing\, play an instrument\, or just want some musical fellowship—you are welcome! \n\n\n\nStarting this summer\, we will come together to worship\, grow\, and support one another through music. We will meet at the church biweekly alternating Tuesday nights and Saturday afternoons\, with our first connect session on Saturday\, June 28\, from 3-5pm. \n\n\n\nNo pressure\, just presence.  Whether you’re a beginner or you’ve been leading worship for years\, there’s a place for you. Come as you are\, bring your heart\, and let’s make a joyful noise together! \n\n\n\nQuestions? Reach out to Anne (208-316-1322) or come say hi after service. We’d love to see you there!
URL:https://brcc.church/event/brcc-worship-connect-group/
END:VEVENT
BEGIN:VEVENT
DTSTART;TZID=America/New_York:20250628T084500
DTEND;TZID=America/New_York:20250628T230000
DTSTAMP:20260423T152100
CREATED:20250621T032540Z
LAST-MODIFIED:20250621T032541Z
UID:32662-1751100300-1751151600@brcc.church
SUMMARY:BRCC Youth Group Hershey Park Trip
DESCRIPTION:Meet at the church around 8:45 AM so that we can leave by 9:00 AM\, while there is no set return time but we will be back at the Church by 11:00 PM  at the latest\, we will have the students communicate with their parents on the way back for an accurate pick-up time. \n\n\n\nThe cost for tickets is $10 per person\, students need to pack a lunch and dinner or bring money to buy lunch and dinner at the park. If they would like to go to the waterpark section they should bring appropriate swimwear and a towel. \n\n\n\n \n\n\n\nLink to Register: https://giving.myamplify.io/App/Form/5d308790-d2bd-41c2-920f-49bbe959225a
URL:https://brcc.church/event/brcc-youth-group-hershey-park-trip/
END:VEVENT
BEGIN:VEVENT
DTSTART;TZID=America/New_York:20250624T180000
DTEND;TZID=America/New_York:20250624T203000
DTSTAMP:20260423T152100
CREATED:20250606T175619Z
LAST-MODIFIED:20250606T175621Z
UID:32449-1750788000-1750797000@brcc.church
SUMMARY:BRCC "TNT" Tuesday Night Thing
DESCRIPTION:NEW! Mark your calendars and join us for “TNT” (Tuesday Night Thing) Fellowship Dinners- FREE\, family-friendly\, fellowship picnic dinners\, with drop in activities. Invite your friends and neighbors. Dress appropriately for outdoor weather. In case of inclement weather\, dinners will be held in the front church lobby\, and food served from the coffee bar.  \n\n\n\nPlease use the sign up link below to RSVP and sign up for a side dish by Tuesday June 17th.  BRCC will provide the main course. (suggested sides include: tortilla chips\, salsa\, potato chips\, macaroni salad\, potato salad\, pasta salad\, veggie platter\, fruit platter\, tater tots\, baked beans\, garden salad w. dressing/toppings   \n\n\n\nTuesday\, June 24\, 6 – 8:30 PM (Burger night\, snow cones and cotton candy)   \n\n\n\nTuesday\, July 15\, 6 – 8:30 PM Menu TBD   \n\n\n\nTuesday\, August 19\, 6 – 8:30 PM TBD   \n\n\n\nClick HERE to RSVP \n\n\n\nPlease click this link to sign up to bring something- https://www.signupgenius.com/go/60B0944A5AA23A3FA7-57218516-brcc#/
URL:https://brcc.church/event/brcc-tnt-tuesday-night-thing/
END:VEVENT
BEGIN:VEVENT
DTSTART;TZID=America/New_York:20250619T190000
DTEND;TZID=America/New_York:20250619T203000
DTSTAMP:20260423T152100
CREATED:20250509T173211Z
LAST-MODIFIED:20250509T173212Z
UID:32254-1750359600-1750365000@brcc.church
SUMMARY:Women's Bible Study
DESCRIPTION:Join the women of BRCC from 7:00 PM-8:30 PM in the upstairs multi purpose room for a Ladies Bible Study on the Armor of God by Priscilla Shirer. We hope you can join us for this seven week series!
URL:https://brcc.church/event/womens-bible-study-6/
END:VEVENT
BEGIN:VEVENT
DTSTART;TZID=America/New_York:20250615T090000
DTEND;TZID=America/New_York:20250615T100000
DTSTAMP:20260423T152100
CREATED:20250424T170857Z
LAST-MODIFIED:20250424T170858Z
UID:32174-1749978000-1749981600@brcc.church
SUMMARY:Fathers Day Coffee Bar
DESCRIPTION:Join us at 9:00 AM on Sunday June 15th for a special Coffee Bar in honor of Fathers Day.
URL:https://brcc.church/event/fathers-day-coffee-bar/
END:VEVENT
BEGIN:VEVENT
DTSTART;TZID=America/New_York:20250612T190000
DTEND;TZID=America/New_York:20250612T203000
DTSTAMP:20260423T152100
CREATED:20250509T173036Z
LAST-MODIFIED:20250509T173037Z
UID:32251-1749754800-1749760200@brcc.church
SUMMARY:Women's Bible Study
DESCRIPTION:Join the women of BRCC from 7:00 PM-8:30 PM in the upstairs multi purpose room for a Ladies Bible Study on the Armor of God by Priscilla Shirer. We hope you can join us for this seven week series!
URL:https://brcc.church/event/womens-bible-study-5/
END:VEVENT
BEGIN:VEVENT
DTSTART;TZID=America/New_York:20250609T190000
DTEND;TZID=America/New_York:20250609T210000
DTSTAMP:20260423T152100
CREATED:20250409T151548Z
LAST-MODIFIED:20250409T151549Z
UID:32126-1749495600-1749502800@brcc.church
SUMMARY:BRCC Council Meeting
DESCRIPTION:The BRCC Council meets monthly to review church finances and other matters. BRCC Council Meetings are open for any BRCC Member to attend if they wish. The meeting will be held in the upstairs multi purpose room.
URL:https://brcc.church/event/brcc-council-meeting-3/
END:VEVENT
BEGIN:VEVENT
DTSTART;TZID=America/New_York:20250605T190000
DTEND;TZID=America/New_York:20250605T203000
DTSTAMP:20260423T152100
CREATED:20250509T172926Z
LAST-MODIFIED:20250509T172927Z
UID:32248-1749150000-1749155400@brcc.church
SUMMARY:Women's Bible Study
DESCRIPTION:Join the women of BRCC from 7:00 PM-8:30 PM in the upstairs multi purpose room for a Ladies Bible Study on the Armor of God by Priscilla Shirer. We hope you can join us for this seven week series!
URL:https://brcc.church/event/womens-bible-study-4/
END:VEVENT
BEGIN:VEVENT
DTSTART;TZID=America/New_York:20250529T190000
DTEND;TZID=America/New_York:20250529T203000
DTSTAMP:20260423T152100
CREATED:20250509T172740Z
LAST-MODIFIED:20250509T172741Z
UID:32245-1748545200-1748550600@brcc.church
SUMMARY:Women's Bible Study
DESCRIPTION:Join the women of BRCC from 7:00 PM-8:30 PM in the upstairs multi purpose room for a Ladies Bible Study on the Armor of God by Priscilla Shirer. We hope you can join us for this seven week series!
URL:https://brcc.church/event/womens-bible-study-3/
END:VEVENT
BEGIN:VEVENT
DTSTART;TZID=America/New_York:20250522T190000
DTEND;TZID=America/New_York:20250522T203000
DTSTAMP:20260423T152100
CREATED:20250509T172608Z
LAST-MODIFIED:20250509T172610Z
UID:32242-1747940400-1747945800@brcc.church
SUMMARY:Women's Bible Study
DESCRIPTION:Join the women of BRCC from 7:00 PM-8:30 PM in the upstairs multi purpose room for a Ladies Bible Study on the Armor of God by Priscilla Shirer. We hope you can join us for this seven week series!
URL:https://brcc.church/event/womens-bible-study-2/
END:VEVENT
BEGIN:VEVENT
DTSTART;TZID=America/New_York:20250515T190000
DTEND;TZID=America/New_York:20250515T203000
DTSTAMP:20260423T152100
CREATED:20250509T172432Z
LAST-MODIFIED:20250509T172433Z
UID:32237-1747335600-1747341000@brcc.church
SUMMARY:Women's Bible Study
DESCRIPTION:Join the women of BRCC from 7:00 PM-8:30 PM in the upstairs multi purpose room for a Ladies Bible Study on the Armor of God by Priscilla Shirer. We hope you can join us for this seven week series!
URL:https://brcc.church/event/womens-bible-study/
END:VEVENT
BEGIN:VEVENT
DTSTART;TZID=America/New_York:20250512T190000
DTEND;TZID=America/New_York:20250512T210000
DTSTAMP:20260423T152100
CREATED:20250409T151412Z
LAST-MODIFIED:20250409T151413Z
UID:32123-1747076400-1747083600@brcc.church
SUMMARY:BRCC Council Meeting
DESCRIPTION:The BRCC Council meets monthly to review church finances and other matters. BRCC Council Meetings are open for any BRCC Member to attend if they wish. The meeting will be held in the upstairs multi purpose room.
URL:https://brcc.church/event/brcc-council-meeting-2/
END:VEVENT
BEGIN:VEVENT
DTSTART;TZID=America/New_York:20250511T090000
DTEND;TZID=America/New_York:20250511T100000
DTSTAMP:20260423T152100
CREATED:20250424T170344Z
LAST-MODIFIED:20250424T170347Z
UID:32171-1746954000-1746957600@brcc.church
SUMMARY:Mothers Day Coffee Bar
DESCRIPTION:The BRCC’s Men’s’ Ministry will host a special fellowship breakfast at 9 AM at the coffee bar in honor of Mother’s Day. All are welcome!
URL:https://brcc.church/event/mothers-day-coffee-bar/
END:VEVENT
BEGIN:VEVENT
DTSTART;TZID=America/New_York:20250503T191500
DTEND;TZID=America/New_York:20250503T191500
DTSTAMP:20260423T152100
CREATED:20250218T034138Z
LAST-MODIFIED:20250218T042419Z
UID:31799-1746299700-1746299700@brcc.church
SUMMARY:Men's Baseball Game
DESCRIPTION:Grab your friends and family and join the men of BRCC for a fun night out at the ballpark! On May 3rd\, we’ll be cheering on the Baltimore Orioles as they take on the Kansas City Royals. We’ll all sit together\, so it’s a great chance to hang out\, enjoy the game\, and make some great memories. Everyone’s welcome—bring your kids\, friends\, or anyone who loves baseball! Tickets are just $25 per person. Don’t miss out! ⚾🎉 \n\n\n\n \n\n\n\nClick the link to register- https://giving.myamplify.io/App/Form/8edc1870-dcbf-42fb-acb0-b352fae826d3
URL:https://brcc.church/event/mens-baseball-game/
END:VEVENT
BEGIN:VEVENT
DTSTART;TZID=America/New_York:20250501T183000
DTEND;TZID=America/New_York:20250501T200000
DTSTAMP:20260423T152100
CREATED:20250409T152500Z
LAST-MODIFIED:20250409T152501Z
UID:32144-1746124200-1746129600@brcc.church
SUMMARY:National Day of Prayer
DESCRIPTION:Join us and other believers on Thursday\, May 1\, 6:30-8:00 PM at Lawyer’s Mall at the State Capitol Building for National Day of Prayer
URL:https://brcc.church/event/national-day-of-prayer/
END:VEVENT
BEGIN:VEVENT
DTSTART;TZID=America/New_York:20250425T170000
DTEND;TZID=America/New_York:20250427T110000
DTSTAMP:20260423T152100
CREATED:20250217T211352Z
LAST-MODIFIED:20250313T195438Z
UID:31790-1745600400-1745751600@brcc.church
SUMMARY:Women's Retreat
DESCRIPTION:Ladies\, get ready for an unforgettable getaway! Join us for our 2025 Women’s Retreat where laughter\, adventure\, and spiritual refreshment await! Enjoy a beautiful waterfront setting filled with fun activities\, delicious food\, uplifting worship\, prayer\, and meaningful study. Don’t miss this chance to relax\, connect\, and grow together! \n\n\n\nLocation: BWC Retreat Center\, 5100 Chalk Point Road\, West River\, MD 20778 \n\n\n\nDates: 4/25 5:00 PM PM through 4/27 12:00 PMCost: $99.00 all inclusive\, all meals included \n\n\n\nStudy with Videos ‘ARMOR OF GOD’ With Priscilla Shirer \n\n\n\nHandout materials provided
URL:https://brcc.church/event/womens-retreat-2/
END:VEVENT
BEGIN:VEVENT
DTSTART;TZID=America/New_York:20250414T190000
DTEND;TZID=America/New_York:20250414T210000
DTSTAMP:20260423T152100
CREATED:20250409T151145Z
LAST-MODIFIED:20250409T151219Z
UID:32117-1744657200-1744664400@brcc.church
SUMMARY:BRCC Council Meeting
DESCRIPTION:The BRCC Council meets monthly to review church finances and other matters. BRCC Council Meetings are open for any BRCC Member to attend if they wish. The meeting will be held in the upstairs multi purpose room.
URL:https://brcc.church/event/brcc-council-meeting/
END:VEVENT
BEGIN:VEVENT
DTSTART;TZID=America/New_York:20250412T100000
DTEND;TZID=America/New_York:20250412T120000
DTSTAMP:20260423T152100
CREATED:20250217T211056Z
LAST-MODIFIED:20250218T042554Z
UID:31788-1744452000-1744459200@brcc.church
SUMMARY:BRCC Egg Hunt
DESCRIPTION:Join us on April 12th for our annual Egg Hunt and Family Festival! We will have egg hunts\, games\, bounce house\, face painters\, petting zoo and more! Contact admin@brcc.church
URL:https://brcc.church/event/brcc-egg-hunt/
END:VEVENT
BEGIN:VEVENT
DTSTART;TZID=America/New_York:20250406T113000
DTEND;TZID=America/New_York:20250406T123000
DTSTAMP:20260423T152100
CREATED:20250218T024827Z
LAST-MODIFIED:20250218T042636Z
UID:31796-1743939000-1743942600@brcc.church
SUMMARY:Egg Stuffing Party
DESCRIPTION:Stick around after the church service on April 6th to help us stuff hundreds of eggs for our BRCC Annual Egg Hunt! We’ll provide lunch\, and we’d love for you to join us as we get everything ready for this fun community event. Many hands make light work\, so come hang out\, lend a hand\, and be part of the Easter excitement!
URL:https://brcc.church/event/egg-hunt-stuffing/
END:VEVENT
BEGIN:VEVENT
DTSTART;TZID=America/New_York:20250329T083000
DTEND;TZID=America/New_York:20250329T083000
DTSTAMP:20260423T152100
CREATED:20250218T023403Z
LAST-MODIFIED:20250218T042721Z
UID:31793-1743237000-1743237000@brcc.church
SUMMARY:Church Serve & Refresh Day
DESCRIPTION:Join us for our annual church work party! This is a wonderful opportunity to come together as a community and refresh our church through various improvement projects. Bring the whole family and lend a hand as we spruce up the property and make much-needed enhancements. Your help makes a difference—let’s work together to keep our church looking its best!.
URL:https://brcc.church/event/church-work-party/
END:VEVENT
BEGIN:VEVENT
DTSTART;TZID=America/New_York:20250327T160000
DTEND;TZID=America/New_York:20250327T160000
DTSTAMP:20260423T152100
CREATED:20250303T163241Z
LAST-MODIFIED:20250303T163242Z
UID:31948-1743091200-1743091200@brcc.church
SUMMARY:Maryland March For Life
DESCRIPTION:Join us in Annapolis to stand for LIFE!  \n\n\n\n4:00 St. Mary’s parking lot opens4:15 pizza is available for those who have registered 5:00 Youth Rally Begins in Marian Hall5:30 Mass and Non-Denominational services begin6:30 March Lines up6:45 March begins7:15 Rally at Lawyer’s mall \n\n\n\nPlease Register at www.mdmarchforlife.com
URL:https://brcc.church/event/maryland-march-for-life/
ORGANIZER;CN="Maryland March For Life":MAILTO:mdmarchforlife@gmail.com
END:VEVENT
BEGIN:VEVENT
DTSTART;TZID=America/New_York:20250320T183000
DTEND;TZID=America/New_York:20250320T200000
DTSTAMP:20260423T152100
CREATED:20250303T162224Z
LAST-MODIFIED:20250303T162225Z
UID:31943-1742495400-1742500800@brcc.church
SUMMARY:All County Night of Worship & Prayer
DESCRIPTION:Have you heard?! @awakenaaco is hosting its next All-County Night of Worship & Prayer\, and you’re invited! \n\n\n\nJoin us at Lighthouse Church-6691 Baymeadow Drive\, Glen Bernie MD 21050 on March 20th as we come together as a collective of churches and ministries to seek the Lord for unity and revival in our region. Let us know you’re coming by registering at lighthouse.church/comingup
URL:https://brcc.church/event/all-county-night-of-worship-prayer/
LOCATION:Lighthouse Church\, 6691 Baymeadow Drive\, Glen Burnie\, 21060
END:VEVENT
BEGIN:VEVENT
DTSTART;TZID=America/New_York:20250312T161500
DTEND;TZID=America/New_York:20250312T180000
DTSTAMP:20260423T152100
CREATED:20250224T024405Z
LAST-MODIFIED:20250224T024451Z
UID:31834-1741796100-1741802400@brcc.church
SUMMARY:Volunteer at West Annapolis Pop Up Pantry
DESCRIPTION:Join us on March 12th from 4:15 PM to 6:00 PM as we come together to serve our community with the West Annapolis Pop-Up Pantry! We’ll be packing fresh produce boxes for those in need\, working assembly-line style to fill each box with care. This is a simple\, meaningful\, and fun way to give back while connecting with fellow BRCC members. We’d love for you to join us—every helping hand makes a difference! Click the link to RSVP as there are only 9 available slots- https://forms.gle/21djK9K6hGBE2AM76
URL:https://brcc.church/event/volunteer-at-west-annapolis-pop-up-pantry/
END:VEVENT
BEGIN:VEVENT
DTSTART;TZID=America/New_York:20250301T151500
DTEND;TZID=America/New_York:20250301T151500
DTSTAMP:20260423T152100
CREATED:20250218T211025Z
LAST-MODIFIED:20250218T211521Z
UID:31826-1740842100-1740842100@brcc.church
SUMMARY:Youth Group- Loyola versus Navy Basketball Game
DESCRIPTION:Hey everyone! The Youth Group is heading to the Loyola @ Navy basketball game on Saturday\, March 1st! We’ll meet at the church at 3:15 PM and head out by 3:30 PM. We’ve got a limited number of tickets—only the first 12 to sign up can join us—so don’t wait! Let us know if you’re in!  \n\n\n\nLink to Register- https://docs.google.com/…/1FAIpQLSco1GPC…/viewform
URL:https://brcc.church/event/youth-group-loyola-versus-navy-basketball-game/
END:VEVENT
BEGIN:VEVENT
DTSTART;TZID=America/New_York:20250228T180000
DTEND;TZID=America/New_York:20250228T200000
DTSTAMP:20260423T152100
CREATED:20250217T210639Z
LAST-MODIFIED:20250218T042011Z
UID:31786-1740765600-1740772800@brcc.church
SUMMARY:February Book Club
DESCRIPTION:Join us on February 28th for our next installment of our book club where we will be discussing “Death Not Be Proud”. Please read the book ahead of time and come ready for a lively discussion.! This month’s discussion will be held at Warren and Amy Howers home. Please e-mail admin@brcc.church for more information or for the address.
URL:https://brcc.church/event/february-book-club/
END:VEVENT
BEGIN:VEVENT
DTSTART;TZID=America/New_York:20240630T113000
DTEND;TZID=America/New_York:20240630T133000
DTSTAMP:20260423T152100
CREATED:20240320T010451Z
LAST-MODIFIED:20240320T010453Z
UID:29959-1719747000-1719754200@brcc.church
SUMMARY:BRCC Church Picnic
DESCRIPTION:Join us after following the Sunday Service for our church picnic! E-Mail admin@brcc.church
URL:https://brcc.church/event/brcc-church-picnic/
END:VEVENT
BEGIN:VEVENT
DTSTART;TZID=America/New_York:20240620T000000
DTEND;TZID=America/New_York:20240622T235959
DTSTAMP:20260423T152100
CREATED:20240320T010627Z
LAST-MODIFIED:20240320T010628Z
UID:29961-1718841600-1719100799@brcc.church
SUMMARY:Vacation Bible School
DESCRIPTION:Join us June 20-22\, 2024 for Hometown Nazareth! Step back in time at Hometown Nazareth\, exploring what it was like to live in the town where Jesus grew up. Kids and adults participate in a memorable Bible-times marketplace\, sing catchy songs\, play teamwork-building games\, dig into Bible-times snacks\, visit Jesus’ mom\, Mary\, and collect Bible Memory Makers to remind them of God’s Word. Plus\, everyone learns to look for evidence of God all around them through something called God Sightings. Each day concludes at Celebration—a time of upbeat worship that gets everyone involved. 
URL:https://brcc.church/event/vacation-bible-school/
END:VEVENT
BEGIN:VEVENT
DTSTART;TZID=America/New_York:20240421T100000
DTEND;TZID=America/New_York:20240421T113000
DTSTAMP:20260423T152100
CREATED:20240320T010124Z
LAST-MODIFIED:20240320T010214Z
UID:29955-1713693600-1713699000@brcc.church
SUMMARY:Walking Together- New Members Class
DESCRIPTION:You are cordially invited to attend our new members class. If you have been visiting with us for a while we ask that you join us as we talk about who BRCC is\, and the mission that God had called us as a church here in Annapolis.  \n\n\n\nIn this class\, we will introduce and explain to you the theology and practices that sets BRCC apart. It will also give you the opportunity to discuss and question all of the specific points that come up.  \n\n\n\nEveryone who wishes to become a member of BRCC is required to take this class. Although it is not necessary to be a member of BRCC\, we strongly encourage all regular attendees to attend one of the New Members classes and to earnestly consider becoming an active member of the church. 
URL:https://brcc.church/event/walking-together-new-members-class/
END:VEVENT
END:VCALENDAR