BEGIN:VCALENDAR
VERSION:2.0
PRODID:-//Bay Ridge Christian Church - ECPv6.15.13//NONSGML v1.0//EN
CALSCALE:GREGORIAN
METHOD:PUBLISH
X-ORIGINAL-URL:https://brcc.church
X-WR-CALDESC:Events for Bay Ridge Christian Church
REFRESH-INTERVAL;VALUE=DURATION:PT1H
X-Robots-Tag:noindex
X-PUBLISHED-TTL:PT1H
BEGIN:VTIMEZONE
TZID:America/New_York
BEGIN:DAYLIGHT
TZOFFSETFROM:-0500
TZOFFSETTO:-0400
TZNAME:EDT
DTSTART:20240310T070000
END:DAYLIGHT
BEGIN:STANDARD
TZOFFSETFROM:-0400
TZOFFSETTO:-0500
TZNAME:EST
DTSTART:20241103T060000
END:STANDARD
BEGIN:DAYLIGHT
TZOFFSETFROM:-0500
TZOFFSETTO:-0400
TZNAME:EDT
DTSTART:20250309T070000
END:DAYLIGHT
BEGIN:STANDARD
TZOFFSETFROM:-0400
TZOFFSETTO:-0500
TZNAME:EST
DTSTART:20251102T060000
END:STANDARD
BEGIN:DAYLIGHT
TZOFFSETFROM:-0500
TZOFFSETTO:-0400
TZNAME:EDT
DTSTART:20260308T070000
END:DAYLIGHT
BEGIN:STANDARD
TZOFFSETFROM:-0400
TZOFFSETTO:-0500
TZNAME:EST
DTSTART:20261101T060000
END:STANDARD
BEGIN:DAYLIGHT
TZOFFSETFROM:-0500
TZOFFSETTO:-0400
TZNAME:EDT
DTSTART:20270314T070000
END:DAYLIGHT
BEGIN:STANDARD
TZOFFSETFROM:-0400
TZOFFSETTO:-0500
TZNAME:EST
DTSTART:20271107T060000
END:STANDARD
END:VTIMEZONE
BEGIN:VEVENT
DTSTART;TZID=America/New_York:20260412T234500
DTEND;TZID=America/New_York:20260413T130000
DTSTAMP:20260423T033017
CREATED:20260408T191929Z
LAST-MODIFIED:20260408T191930Z
UID:34652-1776037500-1776085200@brcc.church
SUMMARY:Worship CONNECT Group
DESCRIPTION:Our Worship CONNECT Group is relaunching on Sundays after our regular worship service.  If you love to sing\, play a musical instrument or BOTH…please plan to join us every other Sunday here at BRCC\, in the main sanctuary.  For further information please contact Nabee Yi by email at nabeeyi@gmail.com or text at (301) 325-9171.
URL:https://brcc.church/event/worship-connect-group/
END:VEVENT
BEGIN:VEVENT
DTSTART;TZID=America/New_York:20260411T100000
DTEND;TZID=America/New_York:20260411T120000
DTSTAMP:20260423T033017
CREATED:20251220T223829Z
LAST-MODIFIED:20251220T223831Z
UID:33698-1775901600-1775908800@brcc.church
SUMMARY:Cup of Grace Fellowship - Women of Grace
DESCRIPTION:Join us for coffee\, prayer\, encouragement and meaningful conversation.  More details to come.
URL:https://brcc.church/event/cup-of-grace-fellowship-women-of-grace-3/
END:VEVENT
BEGIN:VEVENT
DTSTART;TZID=America/New_York:20260405T085000
DTEND;TZID=America/New_York:20260405T095000
DTSTAMP:20260423T033017
CREATED:20260311T212726Z
LAST-MODIFIED:20260311T212727Z
UID:34299-1775379000-1775382600@brcc.church
SUMMARY:EASTER Sunday Fellowship with bagels and coffee
DESCRIPTION:Please join us for a time of fellowship celebrating this joyous Easter morning…Jesus is risen!  Bagels and coffee will be served.
URL:https://brcc.church/event/easter-sunday-fellowship-with-bagels-and-coffee/
END:VEVENT
BEGIN:VEVENT
DTSTART;TZID=America/New_York:20260329T085000
DTEND;TZID=America/New_York:20260329T095000
DTSTAMP:20260423T033017
CREATED:20260311T211819Z
LAST-MODIFIED:20260311T211820Z
UID:34296-1774774200-1774777800@brcc.church
SUMMARY:Fellowship Breakfast (Palm Sunday)
DESCRIPTION:Palm Sunday Fellowship Breakfast \n\n\n\nAs we begin Holy Week\, join us for a special morning  \n\n\n\nof breakfast and fellowship in the lobby from 8:50-9:50 AM. Come early  \n\n\n\nto enjoy warm food and hot coffee before worship. \n\n\n\n\n\nContact Amy Kitchin at alkitchin.dc@gmail.com with questions
URL:https://brcc.church/event/fellowship-breakfast-palm-sunday/
END:VEVENT
BEGIN:VEVENT
DTSTART;TZID=America/New_York:20260316T190000
DTEND;TZID=America/New_York:20260316T203000
DTSTAMP:20260423T033017
CREATED:20260218T160950Z
LAST-MODIFIED:20260304T010425Z
UID:34243-1773687600-1773693000@brcc.church
SUMMARY:Council Meeting
DESCRIPTION:Our monthly BRCC Council meeting is open to all BRCC members and you are welcome to join us as we discuss upcoming ministry events\, finances and God’s direction for BRCC.
URL:https://brcc.church/event/council-meeting-2/
END:VEVENT
BEGIN:VEVENT
DTSTART;TZID=America/New_York:20260302T160000
DTEND;TZID=America/New_York:20260309T090000
DTSTAMP:20260423T033017
CREATED:20251220T223658Z
LAST-MODIFIED:20260108T191427Z
UID:33696-1772467200-1773046800@brcc.church
SUMMARY:Winter Relief at BRCC
DESCRIPTION:Be a part of this church-wide\, AA County-wide outreach program that provides emergency shelter and care for those in need during the hardest winter months of the year. BRCC is blessed to be a blessing…come and be a part of this amazing opportunity! More details to come and a SignUp Genius will be published and sent via email on Friday January 23rd\, 2026.
URL:https://brcc.church/event/winter-relief-at-brcc/
END:VEVENT
BEGIN:VEVENT
DTSTART;TZID=America/New_York:20260210T190000
DTEND;TZID=America/New_York:20260210T203000
DTSTAMP:20260423T033017
CREATED:20260108T185532Z
LAST-MODIFIED:20260129T000031Z
UID:33848-1770750000-1770755400@brcc.church
SUMMARY:** DATE CHANGE**(from Feb 3rd to Feb 10th) CONNECT group with Mark & Sue Holmes
DESCRIPTION:Please join us for fellowship and Bible study as we look at Jesus in both the Old and New Testament.  We will be using Scripture along with a book “All That The Prophets Have Spoken” which will be provided at no cost for all participants.
URL:https://brcc.church/event/connect-group-with-mark-sue-holmes/
END:VEVENT
BEGIN:VEVENT
DTSTART;TZID=America/New_York:20260207T100000
DTEND;TZID=America/New_York:20260207T100000
DTSTAMP:20260423T033017
CREATED:20251220T223247Z
LAST-MODIFIED:20251220T223249Z
UID:33694-1770458400-1770458400@brcc.church
SUMMARY:Cup of Grace Fellowship - Women of Grace
DESCRIPTION:Join us for coffee\, light bites and heartfelt connection – prayer\, encouragement and meaningful conversation.   This month discover how you can become a Secret Sister and quietly bless someone in need.  Meet us in the BRCC foyer…we look forward to seeing you!
URL:https://brcc.church/event/cup-of-grace-fellowship-women-of-grace-2/
END:VEVENT
BEGIN:VEVENT
DTSTART;TZID=America/New_York:20260201T114500
DTEND;TZID=America/New_York:20260201T150000
DTSTAMP:20260423T033017
CREATED:20260108T190742Z
LAST-MODIFIED:20260108T190744Z
UID:33850-1769946300-1769958000@brcc.church
SUMMARY:Annual BRCC VISION Meeting for 2026
DESCRIPTION:Please join us for our annual BRCC VISION 2026 meeting following our regular worship service.  A fellowship lunch will be served and following will be presentations for all BRCC ministries\, annual budget and finances as well as voting for new Council members for 2026.
URL:https://brcc.church/event/annual-brcc-vision-meeting-for-2026/
END:VEVENT
BEGIN:VEVENT
DTSTART;TZID=America/New_York:20260129T180000
DTEND;TZID=America/New_York:20260129T200000
DTSTAMP:20260423T033017
CREATED:20260118T191741Z
LAST-MODIFIED:20260118T191743Z
UID:33867-1769709600-1769716800@brcc.church
SUMMARY:Security Team training with AA County
DESCRIPTION:AA County Law Enforcement “Active Threat/Shooter” training on site at BRCC\, upstairs in the multi purpose room.  All BRCC Security team members are invited and encouraged to attend this training session. Please contact Greg Younger for further information.
URL:https://brcc.church/event/security-team-training-with-aa-county/
END:VEVENT
BEGIN:VEVENT
DTSTART;TZID=America/New_York:20260123T180000
DTEND;TZID=America/New_York:20260124T163000
DTSTAMP:20260423T033017
CREATED:20251209T164952Z
LAST-MODIFIED:20251209T164954Z
UID:33677-1769191200-1769272200@brcc.church
SUMMARY:Youth Conference- ReWired DESIRE
DESCRIPTION:Young Women’s ReWired DESIRE conference on biblical sexuality to be held on Saturday Jan 24th\, 2026 from 8:30 am to 1:15 pm at Rockbridge Academy 680 Evergreen Drive\, Crownsville MD 21032. For young women (8th-12th grade)\, moms\, mentors and youth leaders. \n\n\n\n \n\n\n\nYoung Men’s ReWired DESIRE conference on biblical sexuality to be held on Friday January 23rd from 6 – 9 pm AND Saturday January 24th from 8:30 to 4:30 pm at Annapolis Evangelical Presbyterian Church 710 Ridgely Avenue\, Annapolis MD 2140. For young men (6th-12th grade)\, dads\, mentors and youth leaders. \n\n\n\nPLEASE check out details at http://rewireddesire.org
URL:https://brcc.church/event/youth-conference-rewired-desire/
END:VEVENT
BEGIN:VEVENT
DTSTART;TZID=America/New_York:20260116T120000
DTEND;TZID=America/New_York:20260118T120000
DTSTAMP:20260423T033017
CREATED:20251209T161850Z
LAST-MODIFIED:20260108T191215Z
UID:33672-1768564800-1768737600@brcc.church
SUMMARY:BRCC Youth Retreat at Deep Creek
DESCRIPTION:Please plan to join us for our annual Winter Retreat at Deep Creek. Games\, sports\, good food\, fellowship\, digging into God’s Word together and hopefully some SNOW! Cost is $35/person (there is $$ available for those who need assistance so please speak to any Youth leader). Signups are underway with limit of 15…just a few spots left!  For further information please contact Sean Woodruff at sbwoodruff02@gmail.com and check email for signup/payment link.
URL:https://brcc.church/event/brcc-youth-retreat-at-deep-creek/
END:VEVENT
BEGIN:VEVENT
DTSTART;TZID=America/New_York:20260111T100000
DTEND;TZID=America/New_York:20260111T113000
DTSTAMP:20260423T033017
CREATED:20251209T162301Z
LAST-MODIFIED:20251209T162431Z
UID:33674-1768125600-1768131000@brcc.church
SUMMARY:Water Baptism
DESCRIPTION:Praise the Lord for the work of the Holy Spirit here at BRCC! We will be having a water baptism during our regular worship service for those who desire to take this step in their faith journey. If you believe that God may be prompting you to take this step\, please contact Bret Hicks by text (410) 562-9506 or email him at bret@brcc.church.
URL:https://brcc.church/event/water-baptism/
END:VEVENT
BEGIN:VEVENT
DTSTART;TZID=America/New_York:20260105T190000
DTEND;TZID=America/New_York:20260105T210000
DTSTAMP:20260423T033017
CREATED:20251209T161257Z
LAST-MODIFIED:20260108T190408Z
UID:33670-1767639600-1767646800@brcc.church
SUMMARY:COUNCIL Meeting
DESCRIPTION:Monthly Council meeting and all BRCC members are welcome to attend.
URL:https://brcc.church/event/council-meeting/
END:VEVENT
BEGIN:VEVENT
DTSTART;TZID=America/New_York:20251224T180000
DTEND;TZID=America/New_York:20251224T190000
DTSTAMP:20260423T033017
CREATED:20250923T225415Z
LAST-MODIFIED:20251205T174122Z
UID:33207-1766599200-1766602800@brcc.church
SUMMARY:Christmas Eve Service
DESCRIPTION:Please mark your calendar for our annual Christmas Eve candlelight service of God’s Word and worship as we celebrate the birth of Jesus.
URL:https://brcc.church/event/christmas-eve-service/
END:VEVENT
BEGIN:VEVENT
DTSTART;TZID=America/New_York:20251221T084500
DTEND;TZID=America/New_York:20251221T094500
DTSTAMP:20260423T033017
CREATED:20251208T155346Z
LAST-MODIFIED:20251208T155731Z
UID:33660-1766306700-1766310300@brcc.church
SUMMARY:Christmas Caroling & Cookies
DESCRIPTION:Please plan to join the BRCC church family on Sunday December 21st for Christmas caroling & cookies in the BRCC lobby hosted by the Advent Choir.  Let’s celebrate together the coming of Jesus! He is Immanuel…God with us!
URL:https://brcc.church/event/christmas-caroling-cookies/
END:VEVENT
BEGIN:VEVENT
DTSTART;TZID=America/New_York:20251214T113000
DTEND;TZID=America/New_York:20251214T140000
DTSTAMP:20260423T033017
CREATED:20251208T155013Z
LAST-MODIFIED:20251208T155052Z
UID:33657-1765711800-1765720800@brcc.church
SUMMARY:ROOTED TOGETHER Christmas Party
DESCRIPTION:Please join us after church on Sunday December 14th\, 2025 for the Rooted Together CONNECT Group Christmas party.  Ages 18-35 and all are welcome! It is a Christmas-themed potluck so bring a dish to share and wear your ugliest Christmas sweater!  We will meet in the multi-purpose room upstairs at BRCC for a time of fun\, games\, fellowship and fantastic food!  See Sean Woodruff or Abi Younger for more details and hope to see you there!
URL:https://brcc.church/event/rooted-together-christmas-party/
END:VEVENT
BEGIN:VEVENT
DTSTART;TZID=America/New_York:20251208T190000
DTEND;TZID=America/New_York:20251208T210000
DTSTAMP:20260423T033017
CREATED:20250409T152248Z
LAST-MODIFIED:20251208T160138Z
UID:32141-1765220400-1765227600@brcc.church
SUMMARY:NO BRCC Council Meeting December 8th
DESCRIPTION:(next Council Meeting on Monday January 12th\, 2026…all BRCC members welcome) \n\n\n\n\n\n\n\n\n\nThe BRCC Council meets monthly to review church finances and other matters. BRCC Council Meetings are open for any BRCC Member to attend if they wish. The meeting will be held in the upstairs multi purpose room.
URL:https://brcc.church/event/brcc-council-meeting-8/
END:VEVENT
BEGIN:VEVENT
DTSTART;TZID=America/New_York:20251206T113000
DTEND;TZID=America/New_York:20251206T140000
DTSTAMP:20260423T033017
CREATED:20251021T170902Z
LAST-MODIFIED:20251113T013511Z
UID:33441-1765020600-1765029600@brcc.church
SUMMARY:Holiday Lunch & White Elephant Ornament exchange- Women of Grace
DESCRIPTION:Please join us on Saturday December 6th\, 2025 at 11:30 am for a Holiday Lunch and White Elephant ornament exchange in the BRCC front lobby\, hosted by Women of Grace.  Enjoy a variety of delicious soups\, fresh sandwiches\, crisp salad and sweet desserts.  Coffee\, tea and hot cocoa also provided! BRING a wrapped Christmas ornament or decoration ($10 limit).  Please do not include your name…it’s all part of the fun surprise!  RSVP by December 3rd.  Flyers/QR code at the Welcome Desk.
URL:https://brcc.church/event/christmas-fellowship-women-of-grace/
END:VEVENT
BEGIN:VEVENT
DTSTART;TZID=America/New_York:20251121T180000
DTEND;TZID=America/New_York:20251121T200000
DTSTAMP:20260423T033017
CREATED:20251113T015947Z
LAST-MODIFIED:20251113T160122Z
UID:33590-1763748000-1763755200@brcc.church
SUMMARY:Floral Craft Project - Women of Grace
DESCRIPTION:Ladies\, come design a simple floral arrangement atop a Yankee Candle (or equivalent) to use as a centerpiece or as a gift.  Workshop will be held in the Project Room at BRCC\, upstairs behind the sound booth.  A $40 fee covers all supplies and instruction and is payable to Renee Younger via Zelle\, Venmo\, PayPal or cash. \n\n\n\nCome and enjoy fellowship and fun\, learning a new and EASY craft project!
URL:https://brcc.church/event/floral-craft-project-women-of-grace/
END:VEVENT
BEGIN:VEVENT
DTSTART;TZID=America/New_York:20251110T190000
DTEND;TZID=America/New_York:20251110T210000
DTSTAMP:20260423T033017
CREATED:20250409T152137Z
LAST-MODIFIED:20250409T152139Z
UID:32138-1762801200-1762808400@brcc.church
SUMMARY:BRCC Council Meeting
DESCRIPTION:The BRCC Council meets monthly to review church finances and other matters. BRCC Council Meetings are open for any BRCC Member to attend if they wish. The meeting will be held in the upstairs multi purpose room.
URL:https://brcc.church/event/brcc-council-meeting-7/
END:VEVENT
BEGIN:VEVENT
DTSTART;TZID=America/New_York:20251107T190000
DTEND;TZID=America/New_York:20251107T210000
DTSTAMP:20260423T033017
CREATED:20250812T161231Z
LAST-MODIFIED:20250924T150459Z
UID:32790-1762542000-1762549200@brcc.church
SUMMARY:Annual Church Bonfire
DESCRIPTION:Join us for our annual church bonfire!  The bonfire will be on Friday\, November 7th\, 2025 from 7 to 9 pm. It will be held at 3336 Solomon’s Island Road\, Edgewater\, MD 21037.  All food and drinks are provided – just bring a chair and enjoy a great evening of fellowship around the fire! \n\n\n\nEdgewater\, MD 21037 USA
URL:https://brcc.church/event/annual-church-bonfire/
END:VEVENT
BEGIN:VEVENT
DTSTART;TZID=America/New_York:20251104T180000
DTEND;TZID=America/New_York:20251104T180000
DTSTAMP:20260423T033017
CREATED:20250924T153313Z
LAST-MODIFIED:20250924T153314Z
UID:33218-1762279200-1762279200@brcc.church
SUMMARY:Fellowship Dinner
DESCRIPTION:Join us for a special Italian dinner and time of learning about the ministry of Regin and Heidi Guttensen\, our missionaries in Italy!  The meal will be prepared by Heidi and the event will be hosted at the home of Jason and Melisa Dittrich (122 Seahawk Lane\, Edgewater\, MD 21037). The meal will begin at 6 pm. Space is limited to the first 25 who sign up.  To RSVP please look for the SignUp Genius link that will be in the B’Ridge in early October.
URL:https://brcc.church/event/fellowship-dinner/
END:VEVENT
BEGIN:VEVENT
DTSTART;TZID=America/New_York:20251101T100000
DTEND;TZID=America/New_York:20251101T100000
DTSTAMP:20260423T033017
CREATED:20251021T162511Z
LAST-MODIFIED:20251021T162512Z
UID:33439-1761991200-1761991200@brcc.church
SUMMARY:CUP OF GRACE Fellowship- Women of Grace
DESCRIPTION:Please join us for ‘Cup of Grace’ large group fellowship hosted by Women of Grace ministry from 10 – noon at BRCC in the front foyer.  We hope to see you there!
URL:https://brcc.church/event/cup-of-grace-fellowship-women-of-grace/
END:VEVENT
BEGIN:VEVENT
DTSTART;TZID=America/New_York:20251026T084500
DTEND;TZID=America/New_York:20251026T094500
DTSTAMP:20260423T033017
CREATED:20250923T224541Z
LAST-MODIFIED:20251006T145216Z
UID:33203-1761468300-1761471900@brcc.church
SUMMARY:Fellowship Breakfast-BRCC Youth
DESCRIPTION:Please join us for a delicious fellowship breakfast hosted by our BRCC Youth Ministry before our worship service.  Come out and enjoy fellowship with the BRCC family!
URL:https://brcc.church/event/fellowship-breakfast-women-of-grace/
END:VEVENT
BEGIN:VEVENT
DTSTART;TZID=America/New_York:20251013T190000
DTEND;TZID=America/New_York:20251013T210000
DTSTAMP:20260423T033017
CREATED:20250409T152029Z
LAST-MODIFIED:20250409T152030Z
UID:32135-1760382000-1760389200@brcc.church
SUMMARY:BRCC Council Meeting
DESCRIPTION:The BRCC Council meets monthly to review church finances and other matters. BRCC Council Meetings are open for any BRCC Member to attend if they wish. The meeting will be held in the upstairs multi purpose room.
URL:https://brcc.church/event/brcc-council-meeting-6/
END:VEVENT
BEGIN:VEVENT
DTSTART;TZID=America/New_York:20251005T114500
DTEND;TZID=America/New_York:20251005T133000
DTSTAMP:20260423T033017
CREATED:20250923T224019Z
LAST-MODIFIED:20250924T150051Z
UID:33201-1759664700-1759671000@brcc.church
SUMMARY:Fellowship Lunch
DESCRIPTION:Join us for our fellowship lunch immediately following the Sunday worship gathering!  Our missionary Damir Splojarik will be with us\, and it will be a great time for fellowship with your brothers and sisters at BRCC.  Bring a dish to share.
URL:https://brcc.church/event/fellowship-lunch/
END:VEVENT
BEGIN:VEVENT
DTSTART;TZID=America/New_York:20250927T100000
DTEND;TZID=America/New_York:20250927T120000
DTSTAMP:20260423T033017
CREATED:20250909T171002Z
LAST-MODIFIED:20250909T171004Z
UID:32927-1758967200-1758974400@brcc.church
SUMMARY:Women of Grace KICKOFF
DESCRIPTION:Please join us for our Women of Grace KICKOFF event – a light brunch served in the church lobby along with fellowship and prayer as we launch our monthly CONNECT Group. Email Sharon Kraft at sharon.kraft.lee@gmail.com for more details.  Hope to see you there!
URL:https://brcc.church/event/women-of-grace-kickoff/
END:VEVENT
BEGIN:VEVENT
DTSTART;TZID=America/New_York:20250908T190000
DTEND;TZID=America/New_York:20250908T210000
DTSTAMP:20260423T033017
CREATED:20250409T151922Z
LAST-MODIFIED:20250409T151923Z
UID:32132-1757358000-1757365200@brcc.church
SUMMARY:BRCC Council Meeting
DESCRIPTION:The BRCC Council meets monthly to review church finances and other matters. BRCC Council Meetings are open for any BRCC Member to attend if they wish. The meeting will be held in the upstairs multi purpose room.
URL:https://brcc.church/event/brcc-council-meeting-5/
END:VEVENT
BEGIN:VEVENT
DTSTART;TZID=America/New_York:20250819T180000
DTEND;TZID=America/New_York:20250819T203000
DTSTAMP:20260423T033017
CREATED:20250606T180218Z
LAST-MODIFIED:20250723T141710Z
UID:32457-1755626400-1755635400@brcc.church
SUMMARY:BRCC "TNT" Tuesday Night Thing
DESCRIPTION:NEW! Mark your calendars and join us for “TNT” (Tuesday Night Thing) Fellowship Dinners- FREE\, family-friendly\, fellowship picnic dinners\, with drop in activities. Invite your friends and neighbors. Dress appropriately for outdoor weather. In case of inclement weather\, dinners will be held in the front church lobby\, and food served from the coffee bar.  \n\n\n\nPlease use the sign up link below to RSVP and sign up for a side dish by Tuesday June 17th.  BRCC will provide the main course. (suggested sides include: tortilla chips\, salsa\, potato chips\, macaroni salad\, potato salad\, pasta salad\, veggie platter\, fruit platter\, tater tots\, baked beans\, garden salad w. dressing/toppings   \n\n\n\nTuesday\, August 19\, 6 – 8:30 PM TBD   \n\n\n\nPlease CLICK HERE to RSVP so we know you’re coming! \n\n\n\nPlease click this link to sign up to bring something- https://www.signupgenius.com/go/60B0944A5AA23A3FA7-57218516-brcc#/ \n\n\n\nContact Warren Hower at warren.hower@gmail.com with questions 
URL:https://brcc.church/event/brcc-tnt-tuesday-night-thing-3/
END:VEVENT
END:VCALENDAR