BEGIN:VCALENDAR
VERSION:2.0
PRODID:-//Bay Ridge Christian Church - ECPv6.15.13//NONSGML v1.0//EN
CALSCALE:GREGORIAN
METHOD:PUBLISH
X-WR-CALNAME:Bay Ridge Christian Church
X-ORIGINAL-URL:https://brcc.church
X-WR-CALDESC:Events for Bay Ridge Christian Church
REFRESH-INTERVAL;VALUE=DURATION:PT1H
X-Robots-Tag:noindex
X-PUBLISHED-TTL:PT1H
BEGIN:VTIMEZONE
TZID:America/New_York
BEGIN:DAYLIGHT
TZOFFSETFROM:-0500
TZOFFSETTO:-0400
TZNAME:EDT
DTSTART:20240310T070000
END:DAYLIGHT
BEGIN:STANDARD
TZOFFSETFROM:-0400
TZOFFSETTO:-0500
TZNAME:EST
DTSTART:20241103T060000
END:STANDARD
BEGIN:DAYLIGHT
TZOFFSETFROM:-0500
TZOFFSETTO:-0400
TZNAME:EDT
DTSTART:20250309T070000
END:DAYLIGHT
BEGIN:STANDARD
TZOFFSETFROM:-0400
TZOFFSETTO:-0500
TZNAME:EST
DTSTART:20251102T060000
END:STANDARD
BEGIN:DAYLIGHT
TZOFFSETFROM:-0500
TZOFFSETTO:-0400
TZNAME:EDT
DTSTART:20260308T070000
END:DAYLIGHT
BEGIN:STANDARD
TZOFFSETFROM:-0400
TZOFFSETTO:-0500
TZNAME:EST
DTSTART:20261101T060000
END:STANDARD
END:VTIMEZONE
BEGIN:VEVENT
DTSTART;TZID=America/New_York:20250725T080000
DTEND;TZID=America/New_York:20250727T170000
DTSTAMP:20260423T202437
CREATED:20250621T023756Z
LAST-MODIFIED:20250621T023758Z
UID:32656-1753430400-1753635600@brcc.church
SUMMARY:BRCC Rooted Together Camping Trip
DESCRIPTION:July 25th-27th\, 2025 \n\n\n\nJoin BRCC’s Young Adult Group (18-35 year old) Rooted Together for a weekend camping trip at Deep Creek! We have two campsites\, one for women and one for men. Join us for fun activities and a great time of worship together.  \n\n\n\n \n\n\n\nEvent Address: Deep Creek State ParkContact: Daniel Parker at danielbparker.ministry@gmail.com for additional questions or camping needs \n\n\n\nLink to RSVP
URL:https://brcc.church/event/brcc-rooted-together-camping-trip/
END:VEVENT
BEGIN:VEVENT
DTSTART;TZID=America/New_York:20250726T150000
DTEND;TZID=America/New_York:20250726T170000
DTSTAMP:20260423T202437
CREATED:20250606T195201Z
LAST-MODIFIED:20250606T195203Z
UID:32467-1753542000-1753549200@brcc.church
SUMMARY:BRCC Worship Connect Group
DESCRIPTION:Join Our Worship Community!Do you love music? Whether you sing\, play an instrument\, or just want some musical fellowship—you are welcome! \n\n\n\nStarting this summer\, we will come together to worship\, grow\, and support one another through music. We will meet at the church biweekly alternating Tuesday nights and Saturday afternoons\, with our first connect session on Saturday\, June 28\, from 3-5pm. \n\n\n\nNo pressure\, just presence.  Whether you’re a beginner or you’ve been leading worship for years\, there’s a place for you. Come as you are\, bring your heart\, and let’s make a joyful noise together! \n\n\n\nQuestions? Reach out to Anne (208-316-1322) or come say hi after service. We’d love to see you there!
URL:https://brcc.church/event/brcc-worship-connect-group-3/
END:VEVENT
END:VCALENDAR