BEGIN:VCALENDAR
VERSION:2.0
PRODID:-//Bay Ridge Christian Church - ECPv6.15.13//NONSGML v1.0//EN
CALSCALE:GREGORIAN
METHOD:PUBLISH
X-ORIGINAL-URL:https://brcc.church
X-WR-CALDESC:Events for Bay Ridge Christian Church
REFRESH-INTERVAL;VALUE=DURATION:PT1H
X-Robots-Tag:noindex
X-PUBLISHED-TTL:PT1H
BEGIN:VTIMEZONE
TZID:America/New_York
BEGIN:DAYLIGHT
TZOFFSETFROM:-0500
TZOFFSETTO:-0400
TZNAME:EDT
DTSTART:20240310T070000
END:DAYLIGHT
BEGIN:STANDARD
TZOFFSETFROM:-0400
TZOFFSETTO:-0500
TZNAME:EST
DTSTART:20241103T060000
END:STANDARD
BEGIN:DAYLIGHT
TZOFFSETFROM:-0500
TZOFFSETTO:-0400
TZNAME:EDT
DTSTART:20250309T070000
END:DAYLIGHT
BEGIN:STANDARD
TZOFFSETFROM:-0400
TZOFFSETTO:-0500
TZNAME:EST
DTSTART:20251102T060000
END:STANDARD
BEGIN:DAYLIGHT
TZOFFSETFROM:-0500
TZOFFSETTO:-0400
TZNAME:EDT
DTSTART:20260308T070000
END:DAYLIGHT
BEGIN:STANDARD
TZOFFSETFROM:-0400
TZOFFSETTO:-0500
TZNAME:EST
DTSTART:20261101T060000
END:STANDARD
END:VTIMEZONE
BEGIN:VEVENT
DTSTART;TZID=America/New_York:20250503T191500
DTEND;TZID=America/New_York:20250503T191500
DTSTAMP:20260423T233158
CREATED:20250218T034138Z
LAST-MODIFIED:20250218T042419Z
UID:31799-1746299700-1746299700@brcc.church
SUMMARY:Men's Baseball Game
DESCRIPTION:Grab your friends and family and join the men of BRCC for a fun night out at the ballpark! On May 3rd\, we’ll be cheering on the Baltimore Orioles as they take on the Kansas City Royals. We’ll all sit together\, so it’s a great chance to hang out\, enjoy the game\, and make some great memories. Everyone’s welcome—bring your kids\, friends\, or anyone who loves baseball! Tickets are just $25 per person. Don’t miss out! ⚾🎉 \n\n\n\n \n\n\n\nClick the link to register- https://giving.myamplify.io/App/Form/8edc1870-dcbf-42fb-acb0-b352fae826d3
URL:https://brcc.church/event/mens-baseball-game/
END:VEVENT
END:VCALENDAR